BEGIN:VCALENDAR
VERSION:2.0
PRODID:-//janun.de//
BEGIN:VEVENT
SUMMARY:Veredelungsworkshop für Obstbäume 1. 2026
DTSTART:20260308T103000Z
DTEND:20260308T170000Z
DTSTAMP:20260404T125444Z
UID:veredelungsworkshop-für-obstbäume-1-2026@janun.de
DESCRIPTION:**Die Anmeldung erfolgt über das Formular links** **Anfang Ap
 ril wird es vermutlich noch einen zweiten Workshop geben.** Wie letztes Ja
 hr wollen wir auch dieses Jahr…
URL:https://www.janun-goettingen.de/de/veranstaltungen/veredelungsworkshop
 -f%C3%BCr-obstb%C3%A4ume-1-2026/
END:VEVENT
END:VCALENDAR
