BEGIN:VCALENDAR
VERSION:2.0
PRODID:-//janun.de//
BEGIN:VEVENT
SUMMARY:Sommerferienprogramm 2026: Gärtnern\, Wald und Natur
DTSTART;VALUE=DATE:20260706
DTEND;VALUE=DATE:20260710
DTSTAMP:20260215T170056Z
UID:sommerferienprogramm26@janun.de
DESCRIPTION:von Montag bis Freitag
URL:https://www.janun-goettingen.de/de/veranstaltungen/sommerferienprogram
 m26/
END:VEVENT
END:VCALENDAR
