BEGIN:VCALENDAR
VERSION:2.0
PRODID:-//janun.de//
BEGIN:VEVENT
SUMMARY:Osterferienprogramm 2026 Gärtnern\, Wald und Natur
DTSTART:20260323T090000Z
DTEND:20260327T140000Z
DTSTAMP:20260215T170036Z
UID:ostergerienprogramm-2026-gärtnern-wald-und-natur@janun.de
DESCRIPTION:Ort: Siekweg\, 37081 Göttingen Termin: 23.03.-27.03.2026 (10-
 15 Uhr) Alter: 6-12 Jahre\, Teilnehmer*innen (min-max): 8-18 Teilnahmebeit
 räge für die ganze Woche inklusive Verpflegung (siehe hierzu auch Text
 …
URL:https://www.janun-goettingen.de/de/veranstaltungen/ostergerienprogramm
 -2026-g%C3%A4rtnern-wald-und-natur/
END:VEVENT
END:VCALENDAR
