BEGIN:VCALENDAR
VERSION:2.0
PRODID:-//janun.de//
BEGIN:VEVENT
SUMMARY:Obstbaumschnittkursreihe  2026\, 1. Theorie
DTSTART:20260222T140000Z
DTEND:20260222T180000Z
DTSTAMP:20260404T125600Z
UID:obstbaumschnittkursreihe-teil-1-2026@janun.de
DESCRIPTION:**Die Anmeldung für alle Kurstermine zusammen oder einzeln er
 folgt über ein einziges Formular links.**
URL:https://www.janun-goettingen.de/de/veranstaltungen/obstbaumschnittkurs
 reihe-teil-1-2026/
END:VEVENT
END:VCALENDAR
