BEGIN:VCALENDAR
VERSION:2.0
PRODID:-//janun.de//
BEGIN:VEVENT
SUMMARY:Herbstferienprogramm 2026: Gärtnern\, Wald und Natur
DTSTART:20261012T080000Z
DTEND:20261016T130000Z
DTSTAMP:20260215T170106Z
UID:herbstferienprogramm26@janun.de
DESCRIPTION:von Montag bis Freitag
URL:https://www.janun-goettingen.de/de/veranstaltungen/herbstferienprogram
 m26/
END:VEVENT
END:VCALENDAR
